BEGIN:VCALENDAR
VERSION:2.0
PRODID:-//eventon.com NONSGML v1.0//EN
CALSCALE:GREGORIAN
METHOD:PUBLISH
BEGIN:VEVENT
UID:69e75738601b6
DTSTAMP:20260421T105344Z
DTSTART:20260425T140000Z
DTEND:20260425T170000Z
LOCATION:Veterans Memorial Park 500 E 160th Pl
SUMMARY:Flowers on the Porch Giveaway
DESCRIPTION:\nhttps://southholland.org/events/flowers-on-the-porch-giveaway
 /
URL:https://southholland.org/events/flowers-on-the-porch-giveaway/
END:VEVENT
END:VCALENDAR