BEGIN:VCALENDAR
VERSION:2.0
PRODID:-//eventon.com NONSGML v1.0//EN
CALSCALE:GREGORIAN
METHOD:PUBLISH
BEGIN:VEVENT
UID:69e9c59e5c002
DTSTAMP:20260423T070918Z
DTSTART:20260525T160000Z
DTEND:20260525T180000Z
LOCATION:South Park Ave South Park Ave
SUMMARY:Memorial Day Parade
DESCRIPTION:\nhttps://southholland.org/events/memorial-day-parade/
URL:https://southholland.org/events/memorial-day-parade/
END:VEVENT
END:VCALENDAR